Package: RNAseq123 Version: 1.32.0 Command: /Library/Frameworks/R.framework/Resources/bin/R CMD INSTALL RNAseq123 StartedAt: 2025-10-14 13:03:51 -0400 (Tue, 14 Oct 2025) EndedAt: 2025-10-14 13:05:21 -0400 (Tue, 14 Oct 2025) EllapsedTime: 90.9 seconds RetCode: 0 Status: OK