Package: RNAseq123 Version: 1.32.0 Command: /Library/Frameworks/R.framework/Resources/bin/R CMD build --keep-empty-dirs --no-resave-data RNAseq123 StartedAt: 2025-10-14 13:25:30 -0400 (Tue, 14 Oct 2025) EndedAt: 2025-10-14 13:31:20 -0400 (Tue, 14 Oct 2025) EllapsedTime: 349.5 seconds RetCode: 0 Status: OK PackageFile: RNAseq123_1.32.0.tar.gz PackageFileSize: 7.245 MiB