Package: ExpressionNormalizationWorkflow Version: 1.34.0 Command: /Library/Frameworks/R.framework/Resources/bin/R CMD INSTALL ExpressionNormalizationWorkflow StartedAt: 2025-09-26 13:01:29 -0400 (Fri, 26 Sep 2025) EndedAt: 2025-09-26 13:02:41 -0400 (Fri, 26 Sep 2025) EllapsedTime: 72.6 seconds RetCode: 0 Status: OK