Package: ExpHunterSuite Version: 1.16.0 Command: /Library/Frameworks/R.framework/Resources/bin/R CMD build --keep-empty-dirs --no-resave-data ExpHunterSuite StartedAt: 2025-09-30 13:10:52 -0400 (Tue, 30 Sep 2025) EndedAt: 2025-09-30 13:20:04 -0400 (Tue, 30 Sep 2025) EllapsedTime: 552.6 seconds RetCode: 0 Status: OK PackageFile: ExpHunterSuite_1.16.0.tar.gz PackageFileSize: 4.112 MiB