Package: EGSEA123 Version: 1.32.0 Command: /home/biocbuild/bbs-3.21-bioc/R/bin/R CMD INSTALL EGSEA123 StartedAt: 2025-10-14 13:00:47 -0400 (Tue, 14 Oct 2025) EndedAt: 2025-10-14 13:01:22 -0400 (Tue, 14 Oct 2025) EllapsedTime: 35.3 seconds RetCode: 0 Status: OK