Package: CAGEWorkflow Version: 1.24.0 Command: /home/biocbuild/bbs-3.21-bioc/R/bin/R CMD INSTALL CAGEWorkflow StartedAt: 2025-10-10 13:00:29 -0400 (Fri, 10 Oct 2025) EndedAt: 2025-10-10 13:00:59 -0400 (Fri, 10 Oct 2025) EllapsedTime: 30.1 seconds RetCode: 0 Status: OK