Package: CAGEWorkflow Version: 1.24.0 Command: /home/biocbuild/bbs-3.21-bioc/R/bin/R CMD build --keep-empty-dirs --no-resave-data CAGEWorkflow StartedAt: 2025-10-10 13:04:18 -0400 (Fri, 10 Oct 2025) EndedAt: 2025-10-10 13:11:45 -0400 (Fri, 10 Oct 2025) EllapsedTime: 447.2 seconds RetCode: 0 Status: OK PackageFile: CAGEWorkflow_1.24.0.tar.gz PackageFileSize: 816.5 KiB