Package: CAGEWorkflow Version: 1.24.0 Command: /Library/Frameworks/R.framework/Resources/bin/R CMD INSTALL CAGEWorkflow StartedAt: 2025-10-14 13:02:10 -0400 (Tue, 14 Oct 2025) EndedAt: 2025-10-14 13:03:41 -0400 (Tue, 14 Oct 2025) EllapsedTime: 91.2 seconds RetCode: 0 Status: OK