Package: tuberculosis Version: 1.14.0 Command: /home/biocbuild/bbs-3.21-bioc/R/bin/R CMD INSTALL tuberculosis StartedAt: 2025-10-02 11:00:04 -0400 (Thu, 02 Oct 2025) EndedAt: 2025-10-02 11:00:30 -0400 (Thu, 02 Oct 2025) EllapsedTime: 25.8 seconds RetCode: 0 Status: OK