Package: tuberculosis Version: 1.14.0 Command: /home/biocbuild/bbs-3.21-bioc/R/bin/R CMD build --keep-empty-dirs --no-resave-data tuberculosis StartedAt: 2025-10-02 11:44:24 -0400 (Thu, 02 Oct 2025) EndedAt: 2025-10-02 11:45:38 -0400 (Thu, 02 Oct 2025) EllapsedTime: 74.4 seconds RetCode: 0 Status: OK PackageFile: tuberculosis_1.14.0.tar.gz PackageFileSize: 355.6 KiB