Package: topdownrdata Version: 1.30.0 Command: /home/biocbuild/bbs-3.21-bioc/R/bin/R CMD INSTALL topdownrdata StartedAt: 2025-09-30 11:01:46 -0400 (Tue, 30 Sep 2025) EndedAt: 2025-09-30 11:02:24 -0400 (Tue, 30 Sep 2025) EllapsedTime: 38.5 seconds RetCode: 0 Status: OK