Package: topdownrdata Version: 1.30.0 Command: /home/biocbuild/bbs-3.21-bioc/R/bin/R CMD build --keep-empty-dirs --no-resave-data topdownrdata StartedAt: 2025-09-30 11:43:29 -0400 (Tue, 30 Sep 2025) EndedAt: 2025-09-30 11:43:36 -0400 (Tue, 30 Sep 2025) EllapsedTime: 7.3 seconds RetCode: 0 Status: OK PackageFile: topdownrdata_1.30.0.tar.gz PackageFileSize: 100.9 MiB