Package: tartare Version: 1.22.0 Command: /home/biocbuild/bbs-3.21-bioc/R/bin/R CMD build --keep-empty-dirs --no-resave-data tartare StartedAt: 2025-10-02 11:42:30 -0400 (Thu, 02 Oct 2025) EndedAt: 2025-10-02 11:42:50 -0400 (Thu, 02 Oct 2025) EllapsedTime: 20.0 seconds RetCode: 0 Status: OK PackageFile: tartare_1.22.0.tar.gz PackageFileSize: 307.4 KiB