Package: systemPipeRdata Version: 2.12.2 Command: /home/biocbuild/bbs-3.21-bioc/R/bin/R CMD check --install=check:systemPipeRdata.install-out.txt --library=/home/biocbuild/bbs-3.21-bioc/R/site-library --timings systemPipeRdata_2.12.2.tar.gz StartedAt: 2025-10-02 13:00:07 -0400 (Thu, 02 Oct 2025) EndedAt: 2025-10-02 13:02:42 -0400 (Thu, 02 Oct 2025) EllapsedTime: 154.9 seconds RetCode: 0 Status: OK CheckDir: systemPipeRdata.Rcheck Warnings: 0