Package: simpIntLists Version: 1.44.0 Command: /home/biocbuild/bbs-3.21-bioc/R/bin/R CMD check --install=check:simpIntLists.install-out.txt --library=/home/biocbuild/bbs-3.21-bioc/R/site-library --timings simpIntLists_1.44.0.tar.gz StartedAt: 2025-10-09 12:58:41 -0400 (Thu, 09 Oct 2025) EndedAt: 2025-10-09 12:59:46 -0400 (Thu, 09 Oct 2025) EllapsedTime: 65.6 seconds RetCode: 0 Status: WARNINGS CheckDir: simpIntLists.Rcheck Warnings: 1