Package: scanMiRData Version: 1.14.0 Command: /home/biocbuild/bbs-3.21-bioc/R/bin/R CMD check --install=check:scanMiRData.install-out.txt --library=/home/biocbuild/bbs-3.21-bioc/R/site-library --timings scanMiRData_1.14.0.tar.gz StartedAt: 2025-09-30 12:53:49 -0400 (Tue, 30 Sep 2025) EndedAt: 2025-09-30 12:55:42 -0400 (Tue, 30 Sep 2025) EllapsedTime: 113.2 seconds RetCode: 0 Status: OK CheckDir: scanMiRData.Rcheck Warnings: 0