Package: scaeData Version: 1.4.0 Command: /home/biocbuild/bbs-3.21-bioc/R/bin/R CMD check --install=check:scaeData.install-out.txt --library=/home/biocbuild/bbs-3.21-bioc/R/site-library --timings scaeData_1.4.0.tar.gz StartedAt: 2025-10-14 12:54:42 -0400 (Tue, 14 Oct 2025) EndedAt: 2025-10-14 12:58:57 -0400 (Tue, 14 Oct 2025) EllapsedTime: 255.3 seconds RetCode: 0 Status: OK CheckDir: scaeData.Rcheck Warnings: 0