Package: scTHI.data Version: 1.20.0 Command: /home/biocbuild/bbs-3.21-bioc/R/bin/R CMD INSTALL scTHI.data StartedAt: 2025-10-07 10:55:18 -0400 (Tue, 07 Oct 2025) EndedAt: 2025-10-07 10:55:27 -0400 (Tue, 07 Oct 2025) EllapsedTime: 9.2 seconds RetCode: 0 Status: OK