Package: raerdata Version: 1.6.0 Command: /home/biocbuild/bbs-3.21-bioc/R/bin/R CMD INSTALL raerdata StartedAt: 2025-10-02 11:02:00 -0400 (Thu, 02 Oct 2025) EndedAt: 2025-10-02 11:02:35 -0400 (Thu, 02 Oct 2025) EllapsedTime: 34.5 seconds RetCode: 0 Status: OK