Package: rRDPData Version: 1.28.0 Command: /home/biocbuild/bbs-3.21-bioc/R/bin/R CMD build --keep-empty-dirs --no-resave-data rRDPData StartedAt: 2025-10-02 11:37:02 -0400 (Thu, 02 Oct 2025) EndedAt: 2025-10-02 11:39:37 -0400 (Thu, 02 Oct 2025) EllapsedTime: 155.5 seconds RetCode: 0 Status: OK PackageFile: rRDPData_1.28.0.tar.gz PackageFileSize: 154.8 MiB