Package: qPLEXdata Version: 1.26.0 Command: /home/biocbuild/bbs-3.21-bioc/R/bin/R CMD check --install=check:qPLEXdata.install-out.txt --library=/home/biocbuild/bbs-3.21-bioc/R/site-library --timings qPLEXdata_1.26.0.tar.gz StartedAt: 2025-10-16 12:47:02 -0400 (Thu, 16 Oct 2025) EndedAt: 2025-10-16 12:51:59 -0400 (Thu, 16 Oct 2025) EllapsedTime: 297.0 seconds RetCode: 0 Status: WARNINGS CheckDir: qPLEXdata.Rcheck Warnings: 1