Package: ptairData Version: 1.16.0 Command: /home/biocbuild/bbs-3.21-bioc/R/bin/R CMD INSTALL ptairData StartedAt: 2025-10-16 10:56:08 -0400 (Thu, 16 Oct 2025) EndedAt: 2025-10-16 10:56:11 -0400 (Thu, 16 Oct 2025) EllapsedTime: 2.5 seconds RetCode: 0 Status: OK