Package: ptairData Version: 1.16.0 Command: /home/biocbuild/bbs-3.21-bioc/R/bin/R CMD build --keep-empty-dirs --no-resave-data ptairData StartedAt: 2025-10-16 11:34:01 -0400 (Thu, 16 Oct 2025) EndedAt: 2025-10-16 11:34:11 -0400 (Thu, 16 Oct 2025) EllapsedTime: 10.0 seconds RetCode: 0 Status: OK PackageFile: ptairData_1.16.0.tar.gz PackageFileSize: 53.1 MiB