Package: prostateCancerStockholm Version: 1.36.0 Command: /home/biocbuild/bbs-3.21-bioc/R/bin/R CMD INSTALL prostateCancerStockholm StartedAt: 2025-09-30 10:56:15 -0400 (Tue, 30 Sep 2025) EndedAt: 2025-09-30 10:56:24 -0400 (Tue, 30 Sep 2025) EllapsedTime: 8.6 seconds RetCode: 0 Status: OK