Package: prostateCancerStockholm Version: 1.36.0 Command: /home/biocbuild/bbs-3.21-bioc/R/bin/R CMD build --keep-empty-dirs --no-resave-data prostateCancerStockholm StartedAt: 2025-09-30 11:33:32 -0400 (Tue, 30 Sep 2025) EndedAt: 2025-09-30 11:33:43 -0400 (Tue, 30 Sep 2025) EllapsedTime: 11.3 seconds RetCode: 0 Status: OK PackageFile: prostateCancerStockholm_1.36.0.tar.gz PackageFileSize: 13.51 MiB