Package: plotgardenerData Version: 1.14.0 Command: /home/biocbuild/bbs-3.21-bioc/R/bin/R CMD check --install=check:plotgardenerData.install-out.txt --library=/home/biocbuild/bbs-3.21-bioc/R/site-library --timings plotgardenerData_1.14.0.tar.gz StartedAt: 2025-09-30 12:44:50 -0400 (Tue, 30 Sep 2025) EndedAt: 2025-09-30 12:45:09 -0400 (Tue, 30 Sep 2025) EllapsedTime: 19.7 seconds RetCode: 0 Status: WARNINGS CheckDir: plotgardenerData.Rcheck Warnings: 1