Package: parathyroidSE Version: 1.46.0 Command: /home/biocbuild/bbs-3.21-bioc/R/bin/R CMD INSTALL parathyroidSE StartedAt: 2025-10-02 11:01:13 -0400 (Thu, 02 Oct 2025) EndedAt: 2025-10-02 11:01:32 -0400 (Thu, 02 Oct 2025) EllapsedTime: 19.2 seconds RetCode: 0 Status: OK