Package: parathyroidSE Version: 1.46.0 Command: /home/biocbuild/bbs-3.21-bioc/R/bin/R CMD build --keep-empty-dirs --no-resave-data parathyroidSE StartedAt: 2025-10-02 11:32:59 -0400 (Thu, 02 Oct 2025) EndedAt: 2025-10-02 11:33:38 -0400 (Thu, 02 Oct 2025) EllapsedTime: 39.0 seconds RetCode: 0 Status: OK PackageFile: parathyroidSE_1.46.0.tar.gz PackageFileSize: 21.24 MiB