Package: oct4 Version: 1.24.0 Command: /home/biocbuild/bbs-3.21-bioc/R/bin/R CMD check --install=check:oct4.install-out.txt --library=/home/biocbuild/bbs-3.21-bioc/R/site-library --timings oct4_1.24.0.tar.gz StartedAt: 2025-10-16 12:43:11 -0400 (Thu, 16 Oct 2025) EndedAt: 2025-10-16 12:43:30 -0400 (Thu, 16 Oct 2025) EllapsedTime: 18.6 seconds RetCode: 0 Status: OK CheckDir: oct4.Rcheck Warnings: 0