Package: muscData Version: 1.22.0 Command: /home/biocbuild/bbs-3.21-bioc/R/bin/R CMD INSTALL muscData StartedAt: 2025-10-02 11:01:42 -0400 (Thu, 02 Oct 2025) EndedAt: 2025-10-02 11:02:10 -0400 (Thu, 02 Oct 2025) EllapsedTime: 27.2 seconds RetCode: 0 Status: OK