Package: muscData Version: 1.22.0 Command: /home/biocbuild/bbs-3.21-bioc/R/bin/R CMD build --keep-empty-dirs --no-resave-data muscData StartedAt: 2025-10-02 11:31:07 -0400 (Thu, 02 Oct 2025) EndedAt: 2025-10-02 11:32:01 -0400 (Thu, 02 Oct 2025) EllapsedTime: 54.1 seconds RetCode: 0 Status: OK PackageFile: muscData_1.22.0.tar.gz PackageFileSize: 230.4 KiB