Package: multiWGCNAdata Version: 1.6.0 Command: /home/biocbuild/bbs-3.21-bioc/R/bin/R CMD check --install=check:multiWGCNAdata.install-out.txt --library=/home/biocbuild/bbs-3.21-bioc/R/site-library --timings multiWGCNAdata_1.6.0.tar.gz StartedAt: 2025-10-16 12:40:12 -0400 (Thu, 16 Oct 2025) EndedAt: 2025-10-16 12:41:08 -0400 (Thu, 16 Oct 2025) EllapsedTime: 56.6 seconds RetCode: 0 Status: OK CheckDir: multiWGCNAdata.Rcheck Warnings: 0