Package: muleaData Version: 1.4.0 Command: /home/biocbuild/bbs-3.21-bioc/R/bin/R CMD check --install=check:muleaData.install-out.txt --library=/home/biocbuild/bbs-3.21-bioc/R/site-library --timings muleaData_1.4.0.tar.gz StartedAt: 2025-10-09 12:40:12 -0400 (Thu, 09 Oct 2025) EndedAt: 2025-10-09 12:40:41 -0400 (Thu, 09 Oct 2025) EllapsedTime: 28.2 seconds RetCode: 0 Status: WARNINGS CheckDir: muleaData.Rcheck Warnings: 3