Package: muSpaData Version: 1.0.0 Command: /home/biocbuild/bbs-3.21-bioc/R/bin/R CMD INSTALL muSpaData StartedAt: 2025-10-16 10:56:57 -0400 (Thu, 16 Oct 2025) EndedAt: 2025-10-16 10:57:09 -0400 (Thu, 16 Oct 2025) EllapsedTime: 12.5 seconds RetCode: 0 Status: OK