Package: msqc1 Version: 1.36.0 Command: /home/biocbuild/bbs-3.21-bioc/R/bin/R CMD build --keep-empty-dirs --no-resave-data msqc1 StartedAt: 2025-09-30 11:29:42 -0400 (Tue, 30 Sep 2025) EndedAt: 2025-09-30 11:30:31 -0400 (Tue, 30 Sep 2025) EllapsedTime: 48.6 seconds RetCode: 0 Status: OK PackageFile: msqc1_1.36.0.tar.gz PackageFileSize: 7.936 MiB