Package: miRNATarget Version: 1.46.0 Command: /home/biocbuild/bbs-3.21-bioc/R/bin/R CMD INSTALL miRNATarget StartedAt: 2025-10-14 10:56:27 -0400 (Tue, 14 Oct 2025) EndedAt: 2025-10-14 10:56:33 -0400 (Tue, 14 Oct 2025) EllapsedTime: 5.9 seconds RetCode: 0 Status: OK