Package: marinerData Version: 1.8.0 Command: /home/biocbuild/bbs-3.21-bioc/R/bin/R CMD INSTALL marinerData StartedAt: 2025-10-02 10:56:58 -0400 (Thu, 02 Oct 2025) EndedAt: 2025-10-02 10:57:12 -0400 (Thu, 02 Oct 2025) EllapsedTime: 13.5 seconds RetCode: 0 Status: OK