Package: marinerData Version: 1.8.0 Command: /home/biocbuild/bbs-3.21-bioc/R/bin/R CMD build --keep-empty-dirs --no-resave-data marinerData StartedAt: 2025-10-02 11:27:02 -0400 (Thu, 02 Oct 2025) EndedAt: 2025-10-02 11:27:41 -0400 (Thu, 02 Oct 2025) EllapsedTime: 39.2 seconds RetCode: 0 Status: OK PackageFile: marinerData_1.8.0.tar.gz PackageFileSize: 217.7 KiB