Package: mammaPrintData Version: 1.44.0 Command: /home/biocbuild/bbs-3.21-bioc/R/bin/R CMD INSTALL mammaPrintData StartedAt: 2025-10-16 10:55:40 -0400 (Thu, 16 Oct 2025) EndedAt: 2025-10-16 10:55:55 -0400 (Thu, 16 Oct 2025) EllapsedTime: 14.6 seconds RetCode: 0 Status: OK