Package: mammaPrintData Version: 1.44.0 Command: /home/biocbuild/bbs-3.21-bioc/R/bin/R CMD build --keep-empty-dirs --no-resave-data mammaPrintData StartedAt: 2025-10-16 11:26:17 -0400 (Thu, 16 Oct 2025) EndedAt: 2025-10-16 11:27:29 -0400 (Thu, 16 Oct 2025) EllapsedTime: 71.6 seconds RetCode: 0 Status: OK PackageFile: mammaPrintData_1.44.0.tar.gz PackageFileSize: 214.2 MiB