Package: homosapienDEE2CellScore Version: 1.4.0 Command: /home/biocbuild/bbs-3.21-bioc/R/bin/R CMD check --install=check:homosapienDEE2CellScore.install-out.txt --library=/home/biocbuild/bbs-3.21-bioc/R/site-library --timings homosapienDEE2CellScore_1.4.0.tar.gz StartedAt: 2025-09-30 12:26:47 -0400 (Tue, 30 Sep 2025) EndedAt: 2025-09-30 12:44:27 -0400 (Tue, 30 Sep 2025) EllapsedTime: 1059.7 seconds RetCode: 0 Status: OK CheckDir: homosapienDEE2CellScore.Rcheck Warnings: 0