Package: hgu133plus2barcodevecs Version: 1.46.0 Command: /home/biocbuild/bbs-3.21-bioc/R/bin/R CMD INSTALL hgu133plus2barcodevecs StartedAt: 2025-10-02 10:55:33 -0400 (Thu, 02 Oct 2025) EndedAt: 2025-10-02 10:55:34 -0400 (Thu, 02 Oct 2025) EllapsedTime: 0.9 seconds RetCode: 0 Status: OK