Package: hgu133plus2barcodevecs Version: 1.46.0 Command: /home/biocbuild/bbs-3.21-bioc/R/bin/R CMD build --keep-empty-dirs --no-resave-data hgu133plus2barcodevecs StartedAt: 2025-10-02 11:22:40 -0400 (Thu, 02 Oct 2025) EndedAt: 2025-10-02 11:22:41 -0400 (Thu, 02 Oct 2025) EllapsedTime: 1.3 seconds RetCode: 0 Status: OK PackageFile: hgu133plus2barcodevecs_1.46.0.tar.gz PackageFileSize: 1.209 MiB