Package: gageData Version: 2.46.0 Command: /home/biocbuild/bbs-3.21-bioc/R/bin/R CMD build --keep-empty-dirs --no-resave-data gageData StartedAt: 2025-10-02 11:18:13 -0400 (Thu, 02 Oct 2025) EndedAt: 2025-10-02 11:18:18 -0400 (Thu, 02 Oct 2025) EllapsedTime: 5.0 seconds RetCode: 0 Status: OK PackageFile: gageData_2.46.0.tar.gz PackageFileSize: 10.59 MiB