Package: faahKO Version: 1.48.1 Command: /home/biocbuild/bbs-3.21-bioc/R/bin/R CMD INSTALL faahKO StartedAt: 2025-10-16 11:04:12 -0400 (Thu, 16 Oct 2025) EndedAt: 2025-10-16 11:05:04 -0400 (Thu, 16 Oct 2025) EllapsedTime: 51.4 seconds RetCode: 0 Status: OK