Package: etec16s Version: 1.36.0 Command: /home/biocbuild/bbs-3.21-bioc/R/bin/R CMD INSTALL etec16s StartedAt: 2025-10-16 10:56:40 -0400 (Thu, 16 Oct 2025) EndedAt: 2025-10-16 10:56:45 -0400 (Thu, 16 Oct 2025) EllapsedTime: 5.0 seconds RetCode: 0 Status: OK