Package: estrogen Version: 1.54.0 Command: /home/biocbuild/bbs-3.21-bioc/R/bin/R CMD build --keep-empty-dirs --no-resave-data estrogen StartedAt: 2025-10-16 11:15:22 -0400 (Thu, 16 Oct 2025) EndedAt: 2025-10-16 11:16:39 -0400 (Thu, 16 Oct 2025) EllapsedTime: 77.1 seconds RetCode: 0 Status: OK PackageFile: estrogen_1.54.0.tar.gz PackageFileSize: 26.3 MiB