Package: eoPredData Version: 1.2.0 Command: /home/biocbuild/bbs-3.21-bioc/R/bin/R CMD check --install=check:eoPredData.install-out.txt --library=/home/biocbuild/bbs-3.21-bioc/R/site-library --timings eoPredData_1.2.0.tar.gz StartedAt: 2025-10-16 12:15:07 -0400 (Thu, 16 Oct 2025) EndedAt: 2025-10-16 12:15:56 -0400 (Thu, 16 Oct 2025) EllapsedTime: 48.9 seconds RetCode: 0 Status: OK CheckDir: eoPredData.Rcheck Warnings: 0