Package: emtdata Version: 1.16.0 Command: /home/biocbuild/bbs-3.21-bioc/R/bin/R CMD INSTALL emtdata StartedAt: 2025-10-02 10:59:46 -0400 (Thu, 02 Oct 2025) EndedAt: 2025-10-02 10:59:55 -0400 (Thu, 02 Oct 2025) EllapsedTime: 9.8 seconds RetCode: 0 Status: OK