Package: easierData Version: 1.14.0 Command: /home/biocbuild/bbs-3.21-bioc/R/bin/R CMD check --install=check:easierData.install-out.txt --library=/home/biocbuild/bbs-3.21-bioc/R/site-library --timings easierData_1.14.0.tar.gz StartedAt: 2025-10-02 12:13:56 -0400 (Thu, 02 Oct 2025) EndedAt: 2025-10-02 12:17:43 -0400 (Thu, 02 Oct 2025) EllapsedTime: 226.9 seconds RetCode: 0 Status: OK CheckDir: easierData.Rcheck Warnings: 0